BEGIN:VCALENDAR
VERSION:2.0
PRODID:-//Stadt Lucka - Perle im Dreiländereck//NONSGML kigkonsult.se iCalc
 reator 2.30.10//
CALSCALE:GREGORIAN
METHOD:PUBLISH
UID:7e848b74-88f8-4efc-87c6-06ee1b50b516
X-WR-CALNAME:iCagenda
X-WR-CALDESC:Event Management Extension for Joomla!
X-WR-RELCALID:3E26604A-50F4-4449-8B3E-E4F4932D05B5
X-WR-TIMEZONE:Europe/Berlin
BEGIN:VTIMEZONE
TZID:Europe/Berlin
BEGIN:STANDARD
TZNAME:CET
DTSTART:20251026T030000
TZOFFSETFROM:+0200
TZOFFSETTO:+0100
RDATE:20261025T030000
RDATE:20271031T030000
END:STANDARD
BEGIN:DAYLIGHT
TZNAME:CEST
DTSTART:20260329T020000
TZOFFSETFROM:+0100
TZOFFSETTO:+0200
RDATE:20270328T020000
END:DAYLIGHT
END:VTIMEZONE
BEGIN:VEVENT
UID:86f8f231-6108-41de-a493-1ea914501307
DTSTAMP:20260421T173240Z
CATEGORIES:Veranstaltung
CLASS:PUBLIC
DESCRIPTION:
DTSTART:20260717T115600Z
DTEND:20260719T115600Z
GEO:00;0
LOCATION:Parkplatz Prößdorfer See
ORGANIZER:
SEQUENCE:1
SUMMARY:4. Benefiz Truckertreffen
TRANSP:OPAQUE
URL:http://neu.lucka.de/meine-stadt-lucka/termine/98-4-benefiz-truckertreff
 en
END:VEVENT
END:VCALENDAR
