BEGIN:VCALENDAR
VERSION:2.0
PRODID:-//Stadt Lucka - Perle im Dreiländereck//NONSGML kigkonsult.se iCalc
 reator 2.30.10//
CALSCALE:GREGORIAN
METHOD:PUBLISH
UID:26193f32-56a9-4c05-b24e-f6f94af6bf0b
X-WR-CALNAME:iCagenda
X-WR-CALDESC:Event Management Extension for Joomla!
X-WR-RELCALID:3E26604A-50F4-4449-8B3E-E4F4932D05B5
X-WR-TIMEZONE:Europe/Berlin
BEGIN:VTIMEZONE
TZID:Europe/Berlin
BEGIN:STANDARD
TZNAME:CET
DTSTART:20251026T030000
TZOFFSETFROM:+0200
TZOFFSETTO:+0100
RDATE:20261025T030000
RDATE:20271031T030000
END:STANDARD
BEGIN:DAYLIGHT
TZNAME:CEST
DTSTART:20260329T020000
TZOFFSETFROM:+0100
TZOFFSETTO:+0200
RDATE:20270328T020000
END:DAYLIGHT
END:VTIMEZONE
BEGIN:VEVENT
UID:a5572682-94f8-4154-8dac-abb4a9399fd4
DTSTAMP:20260421T174628Z
CATEGORIES:Feste
CLASS:PUBLIC
DESCRIPTION:
DTSTART:20260705T080000Z
DTEND:20260705T080000Z
GEO:00;0
LOCATION:Seerose Prößdorf Kurze Straße 5
ORGANIZER:
SEQUENCE:1
SUMMARY:Feuerwehrvereinsfest 30 Jahre Feuerwehrverein Prößdorf
TRANSP:OPAQUE
URL:http://neu.lucka.de/meine-stadt-lucka/termine/97-feuerwehrvereinsfest-3
 0-jahre-feuerwehrverein-proessdorf-2
END:VEVENT
END:VCALENDAR
