BEGIN:VCALENDAR
VERSION:2.0
PRODID:-//Stadt Lucka - Perle im Dreiländereck//NONSGML kigkonsult.se iCalc
 reator 2.30.10//
CALSCALE:GREGORIAN
METHOD:PUBLISH
UID:69da7faa-eded-4752-b32d-999933fc1d59
X-WR-CALNAME:iCagenda
X-WR-CALDESC:Event Management Extension for Joomla!
X-WR-RELCALID:3E26604A-50F4-4449-8B3E-E4F4932D05B5
X-WR-TIMEZONE:Europe/Berlin
BEGIN:VTIMEZONE
TZID:Europe/Berlin
BEGIN:STANDARD
TZNAME:CET
DTSTART:20251026T030000
TZOFFSETFROM:+0200
TZOFFSETTO:+0100
RDATE:20261025T030000
RDATE:20271031T030000
END:STANDARD
BEGIN:DAYLIGHT
TZNAME:CEST
DTSTART:20260329T020000
TZOFFSETFROM:+0100
TZOFFSETTO:+0200
RDATE:20270328T020000
END:DAYLIGHT
END:VTIMEZONE
BEGIN:VEVENT
UID:e27b8256-431a-47ac-a726-f1d7c07f684a
DTSTAMP:20260421T174642Z
CATEGORIES:Feste
CLASS:PUBLIC
DESCRIPTION:
DTSTART:20260704T130000Z
DTEND:20260704T130000Z
GEO:00;0
LOCATION:Seerose Prößdorf Kurze Straße 5
ORGANIZER:
SEQUENCE:1
SUMMARY:Feuerwehrvereinsfest 30 Jahre Feuerwehrverein Prößdorf
TRANSP:OPAQUE
URL:http://neu.lucka.de/meine-stadt-lucka/termine/96-feuerwehrvereinsfest-3
 0-jahre-feuerwehrverein-proessdorf
END:VEVENT
END:VCALENDAR
