BEGIN:VCALENDAR
VERSION:2.0
PRODID:-//Stadt Lucka - Perle im Dreiländereck//NONSGML kigkonsult.se iCalc
 reator 2.30.10//
CALSCALE:GREGORIAN
METHOD:PUBLISH
UID:03d9f9ba-b5cf-4af2-aea2-bb74fc54073b
X-WR-CALNAME:iCagenda
X-WR-CALDESC:Event Management Extension for Joomla!
X-WR-RELCALID:3E26604A-50F4-4449-8B3E-E4F4932D05B5
X-WR-TIMEZONE:Europe/Berlin
BEGIN:VTIMEZONE
TZID:Europe/Berlin
BEGIN:STANDARD
TZNAME:CET
DTSTART:20251026T030000
TZOFFSETFROM:+0200
TZOFFSETTO:+0100
RDATE:20261025T030000
END:STANDARD
BEGIN:DAYLIGHT
TZNAME:CEST
DTSTART:20260329T020000
TZOFFSETFROM:+0100
TZOFFSETTO:+0200
RDATE:20270328T020000
END:DAYLIGHT
END:VTIMEZONE
BEGIN:VEVENT
UID:82c33a93-99a9-4e49-aa9c-08d093b5af14
DTSTAMP:20260421T173220Z
CATEGORIES:Feste
CLASS:PUBLIC
DESCRIPTION:
DTSTART:20260430T150000Z
DTEND:20260430T150000Z
GEO:00;0
LOCATION:Seerose Prößdorf\, Kurze Straße 5
ORGANIZER:
SEQUENCE:1
SUMMARY:Maibaumsetzen in Prößdorf
TRANSP:OPAQUE
URL:http://neu.lucka.de/meine-stadt-lucka/termine/87-maibaumsetzen-in-proes
 sdorf-3
END:VEVENT
END:VCALENDAR
