BEGIN:VCALENDAR
VERSION:2.0
PRODID:-//Stadt Lucka - Perle im Dreiländereck//NONSGML kigkonsult.se iCalc
 reator 2.30.10//
CALSCALE:GREGORIAN
METHOD:PUBLISH
UID:1a1b2ab4-946e-4a5c-9438-1359c5eecfca
X-WR-CALNAME:iCagenda
X-WR-CALDESC:Event Management Extension for Joomla!
X-WR-RELCALID:3E26604A-50F4-4449-8B3E-E4F4932D05B5
X-WR-TIMEZONE:Europe/Berlin
BEGIN:VTIMEZONE
TZID:Europe/Berlin
BEGIN:STANDARD
TZNAME:CET
DTSTART:20251026T030000
TZOFFSETFROM:+0200
TZOFFSETTO:+0100
RDATE:20261025T030000
END:STANDARD
BEGIN:DAYLIGHT
TZNAME:CEST
DTSTART:20260329T020000
TZOFFSETFROM:+0100
TZOFFSETTO:+0200
RDATE:20270328T020000
END:DAYLIGHT
END:VTIMEZONE
BEGIN:VEVENT
UID:3ebab3ec-acd8-456d-842c-a2965ae1c06e
DTSTAMP:20260421T173241Z
CATEGORIES:Feste
CLASS:PUBLIC
DESCRIPTION:
DTSTART:20260430T140000Z
DTEND:20260430T140000Z
GEO:00;0
LOCATION:Neumarkt\, Clara-Zetkin-Straße
ORGANIZER:
SEQUENCE:1
SUMMARY:Maibaumsetzen in Lucka
TRANSP:OPAQUE
URL:http://neu.lucka.de/meine-stadt-lucka/termine/86-maibaumsetzen-in-lucka
 -5
END:VEVENT
END:VCALENDAR
