BEGIN:VCALENDAR
VERSION:2.0
PRODID:-//Stadt Lucka - Perle im Dreiländereck//NONSGML kigkonsult.se iCalc
 reator 2.30.10//
CALSCALE:GREGORIAN
METHOD:PUBLISH
UID:8789bde1-b6cb-454e-a8f9-aa4ae66be8f4
X-WR-CALNAME:iCagenda
X-WR-CALDESC:Event Management Extension for Joomla!
X-WR-RELCALID:3E26604A-50F4-4449-8B3E-E4F4932D05B5
X-WR-TIMEZONE:Europe/Berlin
BEGIN:VTIMEZONE
TZID:Europe/Berlin
BEGIN:STANDARD
TZNAME:CET
DTSTART:20261025T030000
TZOFFSETFROM:+0200
TZOFFSETTO:+0100
RDATE:20271031T030000
END:STANDARD
BEGIN:DAYLIGHT
TZNAME:CEST
DTSTART:20260329T020000
TZOFFSETFROM:+0100
TZOFFSETTO:+0200
RDATE:20270328T020000
RDATE:20280326T020000
END:DAYLIGHT
END:VTIMEZONE
BEGIN:VEVENT
UID:c7498cd7-9d5e-4a02-b0cf-079c9cf53cec
DTSTAMP:20260421T172928Z
CATEGORIES:Konzerte
CLASS:PUBLIC
DESCRIPTION:
DTSTART:20261224T163000Z
DTEND:20261224T163000Z
GEO:00;0
LOCATION:Platz vor der Grundschule Lucka
ORGANIZER:
SEQUENCE:1
SUMMARY:Weihnachtskonzert mit dem Jugendblasorchester
TRANSP:OPAQUE
URL:http://neu.lucka.de/meine-stadt-lucka/termine/114-weihnachtskonzert-mit
 -dem-jugendblasorchester-2
END:VEVENT
END:VCALENDAR
