BEGIN:VCALENDAR
VERSION:2.0
PRODID:-//Stadt Lucka - Perle im Dreiländereck//NONSGML kigkonsult.se iCalc
 reator 2.30.10//
CALSCALE:GREGORIAN
METHOD:PUBLISH
UID:cf901d24-1716-4da6-ad6f-dd1b36b0fbdb
X-WR-CALNAME:iCagenda
X-WR-CALDESC:Event Management Extension for Joomla!
X-WR-RELCALID:3E26604A-50F4-4449-8B3E-E4F4932D05B5
X-WR-TIMEZONE:Europe/Berlin
BEGIN:VTIMEZONE
TZID:Europe/Berlin
BEGIN:STANDARD
TZNAME:CET
DTSTART:20261025T030000
TZOFFSETFROM:+0200
TZOFFSETTO:+0100
RDATE:20271031T030000
END:STANDARD
BEGIN:DAYLIGHT
TZNAME:CEST
DTSTART:20260329T020000
TZOFFSETFROM:+0100
TZOFFSETTO:+0200
RDATE:20270328T020000
RDATE:20280326T020000
END:DAYLIGHT
END:VTIMEZONE
BEGIN:VEVENT
UID:7962919f-8c33-45b5-8f14-814008b431f6
DTSTAMP:20260421T173222Z
CATEGORIES:Veranstaltung
CLASS:PUBLIC
DESCRIPTION:
DTSTART:20261204T150000Z
DTEND:20261204T150000Z
GEO:00;0
LOCATION:Deutsches Haus Lucka
ORGANIZER:
SEQUENCE:1
SUMMARY:Aufführung Weihnachtsmärchen
TRANSP:OPAQUE
URL:http://neu.lucka.de/meine-stadt-lucka/termine/113-auffuehrung-weihnacht
 smaerchen
END:VEVENT
END:VCALENDAR
