BEGIN:VCALENDAR
VERSION:2.0
PRODID:-//Stadt Lucka - Perle im Dreiländereck//NONSGML kigkonsult.se iCalc
 reator 2.30.10//
CALSCALE:GREGORIAN
METHOD:PUBLISH
UID:f5b4f323-d9b9-46f3-bf4d-7ef539c3b8dd
X-WR-CALNAME:iCagenda
X-WR-CALDESC:Event Management Extension for Joomla!
X-WR-RELCALID:3E26604A-50F4-4449-8B3E-E4F4932D05B5
X-WR-TIMEZONE:Europe/Berlin
BEGIN:VTIMEZONE
TZID:Europe/Berlin
BEGIN:STANDARD
TZNAME:CET
DTSTART:20261025T030000
TZOFFSETFROM:+0200
TZOFFSETTO:+0100
RDATE:20271031T030000
END:STANDARD
BEGIN:DAYLIGHT
TZNAME:CEST
DTSTART:20260329T020000
TZOFFSETFROM:+0100
TZOFFSETTO:+0200
RDATE:20270328T020000
RDATE:20280326T020000
END:DAYLIGHT
END:VTIMEZONE
BEGIN:VEVENT
UID:6476ab14-ab07-4e20-ad24-4db41e0c7b5c
DTSTAMP:20260421T173221Z
CATEGORIES:Märkte
CLASS:PUBLIC
DESCRIPTION:
DTSTART:20261212T130000Z
DTEND:20261212T130000Z
GEO:00;0
LOCATION:Parkplatz neben der Kirche
ORGANIZER:
SEQUENCE:1
SUMMARY:Weihnachtsmarkt in Lucka
TRANSP:OPAQUE
URL:http://neu.lucka.de/meine-stadt-lucka/termine/107-weihnachtsmarkt-in-lu
 cka-2
END:VEVENT
END:VCALENDAR
