BEGIN:VCALENDAR
VERSION:2.0
PRODID:-//Stadt Lucka - Perle im Dreiländereck//NONSGML kigkonsult.se iCalc
 reator 2.30.10//
CALSCALE:GREGORIAN
METHOD:PUBLISH
UID:ec7a5b13-8e6a-4702-b0ec-05626e1bf488
X-WR-CALNAME:iCagenda
X-WR-CALDESC:Event Management Extension for Joomla!
X-WR-RELCALID:3E26604A-50F4-4449-8B3E-E4F4932D05B5
X-WR-TIMEZONE:Europe/Berlin
BEGIN:VTIMEZONE
TZID:Europe/Berlin
BEGIN:STANDARD
TZNAME:CET
DTSTART:20261025T030000
TZOFFSETFROM:+0200
TZOFFSETTO:+0100
RDATE:20271031T030000
END:STANDARD
BEGIN:DAYLIGHT
TZNAME:CEST
DTSTART:20260329T020000
TZOFFSETFROM:+0100
TZOFFSETTO:+0200
RDATE:20270328T020000
RDATE:20280326T020000
END:DAYLIGHT
END:VTIMEZONE
BEGIN:VEVENT
UID:d78a7713-9d39-496e-bfa3-c5a856dffb61
DTSTAMP:20260421T173004Z
CATEGORIES:Veranstaltung
CLASS:PUBLIC
DESCRIPTION:
DTSTART:20261204T160000Z
DTEND:20261204T160000Z
GEO:00;0
LOCATION:Kirche Prößdorf
ORGANIZER:
SEQUENCE:1
SUMMARY:Prößdorf erstrahlt im Weihnachtsglanz
TRANSP:OPAQUE
URL:http://neu.lucka.de/meine-stadt-lucka/termine/106-proessdorf-erstrahlt-
 im-weihnachtsglanz
END:VEVENT
END:VCALENDAR
