BEGIN:VCALENDAR
VERSION:2.0
PRODID:-//Stadt Lucka - Perle im Dreiländereck//NONSGML kigkonsult.se iCalc
 reator 2.30.10//
CALSCALE:GREGORIAN
METHOD:PUBLISH
UID:cb55fb40-7d63-4bab-9e84-dec0434e9b5b
X-WR-CALNAME:iCagenda
X-WR-CALDESC:Event Management Extension for Joomla!
X-WR-RELCALID:3E26604A-50F4-4449-8B3E-E4F4932D05B5
X-WR-TIMEZONE:Europe/Berlin
BEGIN:VTIMEZONE
TZID:Europe/Berlin
BEGIN:STANDARD
TZNAME:CET
DTSTART:20251026T030000
TZOFFSETFROM:+0200
TZOFFSETTO:+0100
RDATE:20261025T030000
RDATE:20271031T030000
END:STANDARD
BEGIN:DAYLIGHT
TZNAME:CEST
DTSTART:20260329T020000
TZOFFSETFROM:+0100
TZOFFSETTO:+0200
RDATE:20270328T020000
END:DAYLIGHT
END:VTIMEZONE
BEGIN:VEVENT
UID:e82b3610-59ac-4d03-8146-a9cca61d0aa9
DTSTAMP:20260421T173103Z
CATEGORIES:Sportveranstaltung
CLASS:PUBLIC
DESCRIPTION:
DTSTART:20260919T080000Z
DTEND:20260920T000000Z
GEO:00;0
LOCATION:Sportplatz Prößdorf
ORGANIZER:
SEQUENCE:1
SUMMARY:80-jähr. Jubiläum SG 'Schwarz-Gelb' Prößdorf e.V.
TRANSP:OPAQUE
URL:http://neu.lucka.de/meine-stadt-lucka/termine/101-80-jaehr-jubilaeum-sg
 -schwarz-gelb-proessdorf-e-v
END:VEVENT
END:VCALENDAR
