BEGIN:VCALENDAR
VERSION:2.0
PRODID:-//Stadt Lucka - Perle im Dreiländereck//NONSGML kigkonsult.se iCalc
 reator 2.30.10//
CALSCALE:GREGORIAN
METHOD:PUBLISH
UID:1476091c-c0f0-459f-9bed-917823dd3560
X-WR-CALNAME:iCagenda
X-WR-CALDESC:Event Management Extension for Joomla!
X-WR-RELCALID:3E26604A-50F4-4449-8B3E-E4F4932D05B5
X-WR-TIMEZONE:Europe/Berlin
BEGIN:VTIMEZONE
TZID:Europe/Berlin
BEGIN:STANDARD
TZNAME:CET
DTSTART:20251026T030000
TZOFFSETFROM:+0200
TZOFFSETTO:+0100
RDATE:20261025T030000
END:STANDARD
BEGIN:DAYLIGHT
TZNAME:CEST
DTSTART:20250330T020000
TZOFFSETFROM:+0100
TZOFFSETTO:+0200
RDATE:20260329T020000
RDATE:20270328T020000
END:DAYLIGHT
END:VTIMEZONE
BEGIN:VEVENT
UID:31f23eb5-fcec-42d6-9507-952988cb2f68
DTSTAMP:20260421T171401Z
CATEGORIES:Märkte
CLASS:PUBLIC
DESCRIPTION:
DTSTART:20260328T121600Z
DTEND:20260328T121600Z
GEO:00;0
LOCATION:Tivoli und alter Sportplatz
ORGANIZER:
SEQUENCE:1
SUMMARY:Trödelflohmarktfest
TRANSP:OPAQUE
URL:http://neu.lucka.de/component/icagenda/85-troedelflohmarktfest?Itemid=4
 35
END:VEVENT
END:VCALENDAR
