BEGIN:VCALENDAR
VERSION:2.0
PRODID:-//Stadt Lucka - Perle im Dreiländereck//NONSGML kigkonsult.se iCalc
 reator 2.30.10//
CALSCALE:GREGORIAN
METHOD:PUBLISH
UID:a29ee5f9-0764-45a0-b967-9a090d66fc0f
X-WR-CALNAME:iCagenda
X-WR-CALDESC:Event Management Extension for Joomla!
X-WR-RELCALID:3E26604A-50F4-4449-8B3E-E4F4932D05B5
X-WR-TIMEZONE:Europe/Berlin
BEGIN:VTIMEZONE
TZID:Europe/Berlin
BEGIN:STANDARD
TZNAME:CET
DTSTART:20251026T030000
TZOFFSETFROM:+0200
TZOFFSETTO:+0100
RDATE:20261025T030000
END:STANDARD
BEGIN:DAYLIGHT
TZNAME:CEST
DTSTART:20250330T020000
TZOFFSETFROM:+0100
TZOFFSETTO:+0200
RDATE:20260329T020000
RDATE:20270328T020000
END:DAYLIGHT
END:VTIMEZONE
BEGIN:VEVENT
UID:6e7e2167-d605-4de5-b64a-e765709147b2
DTSTAMP:20260421T220816Z
CATEGORIES:Konzerte
CLASS:PUBLIC
DESCRIPTION:
DTSTART:20251224T163000Z
DTEND:20251224T163000Z
GEO:00;0
LOCATION:Platz vor der Grund- u. Regelschule
ORGANIZER:
SEQUENCE:1
SUMMARY:Weihnachtskonzert mit dem JBL
TRANSP:OPAQUE
URL:http://neu.lucka.de/component/icagenda/77-weihnachtskonzert-mit-dem-jbl
 ?Itemid=435
END:VEVENT
END:VCALENDAR
