BEGIN:VCALENDAR
VERSION:2.0
PRODID:-//Stadt Lucka - Perle im Dreiländereck//NONSGML kigkonsult.se iCalc
 reator 2.30.10//
CALSCALE:GREGORIAN
METHOD:PUBLISH
UID:1d3b013c-1ac9-481d-b7d2-8a68fbfae304
X-WR-CALNAME:iCagenda
X-WR-CALDESC:Event Management Extension for Joomla!
X-WR-RELCALID:3E26604A-50F4-4449-8B3E-E4F4932D05B5
X-WR-TIMEZONE:Europe/Berlin
BEGIN:VTIMEZONE
TZID:Europe/Berlin
BEGIN:STANDARD
TZNAME:CET
DTSTART:20251026T030000
TZOFFSETFROM:+0200
TZOFFSETTO:+0100
RDATE:20261025T030000
END:STANDARD
BEGIN:DAYLIGHT
TZNAME:CEST
DTSTART:20250330T020000
TZOFFSETFROM:+0100
TZOFFSETTO:+0200
RDATE:20260329T020000
RDATE:20270328T020000
END:DAYLIGHT
END:VTIMEZONE
BEGIN:VEVENT
UID:f2ee6924-bec2-4fa7-a82e-8a7eff8fd66b
DTSTAMP:20260421T220839Z
CATEGORIES:Konzerte
CLASS:PUBLIC
DESCRIPTION:
DTSTART:20251214T140000Z
DTEND:20251214T140000Z
GEO:00;0
LOCATION:Pankratiuskirche Lucka
ORGANIZER:
SEQUENCE:1
SUMMARY:Adventskonzert mit dem JBL
TRANSP:OPAQUE
URL:http://neu.lucka.de/component/icagenda/76-adventskonzert-mit-dem-jbl?It
 emid=435
END:VEVENT
END:VCALENDAR
