BEGIN:VCALENDAR
VERSION:2.0
PRODID:-//Stadt Lucka - Perle im Dreiländereck//NONSGML kigkonsult.se iCalc
 reator 2.30.10//
CALSCALE:GREGORIAN
METHOD:PUBLISH
UID:5af2e4da-2c14-4f39-812e-08797a20e0be
X-WR-CALNAME:iCagenda
X-WR-CALDESC:Event Management Extension for Joomla!
X-WR-RELCALID:3E26604A-50F4-4449-8B3E-E4F4932D05B5
X-WR-TIMEZONE:Europe/Berlin
BEGIN:VTIMEZONE
TZID:Europe/Berlin
BEGIN:STANDARD
TZNAME:CET
DTSTART:20251026T030000
TZOFFSETFROM:+0200
TZOFFSETTO:+0100
RDATE:20261025T030000
END:STANDARD
BEGIN:DAYLIGHT
TZNAME:CEST
DTSTART:20250330T020000
TZOFFSETFROM:+0100
TZOFFSETTO:+0200
RDATE:20260329T020000
RDATE:20270328T020000
END:DAYLIGHT
END:VTIMEZONE
BEGIN:VEVENT
UID:253a22c4-0ddd-4e46-a174-a0bc498c81a5
DTSTAMP:20260421T220930Z
CATEGORIES:Feiern
CLASS:PUBLIC
DESCRIPTION:
DTSTART:20251204T133000Z
DTEND:20251204T133000Z
GEO:00;0
LOCATION:'Deutsches Haus' Lucka
ORGANIZER:
SEQUENCE:1
SUMMARY:Städtische Weihnachtsfeier
TRANSP:OPAQUE
URL:http://neu.lucka.de/component/icagenda/74-staedtische-weihnachtsfeier-2
 ?Itemid=435
END:VEVENT
END:VCALENDAR
