BEGIN:VCALENDAR
VERSION:2.0
PRODID:-//Stadt Lucka - Perle im Dreiländereck//NONSGML kigkonsult.se iCalc
 reator 2.30.10//
CALSCALE:GREGORIAN
METHOD:PUBLISH
UID:03e85a0b-5c2d-47d1-a190-253be7dc26a1
X-WR-CALNAME:iCagenda
X-WR-CALDESC:Event Management Extension for Joomla!
X-WR-RELCALID:3E26604A-50F4-4449-8B3E-E4F4932D05B5
X-WR-TIMEZONE:Europe/Berlin
BEGIN:VTIMEZONE
TZID:Europe/Berlin
BEGIN:STANDARD
TZNAME:CET
DTSTART:20251026T030000
TZOFFSETFROM:+0200
TZOFFSETTO:+0100
RDATE:20261025T030000
END:STANDARD
BEGIN:DAYLIGHT
TZNAME:CEST
DTSTART:20250330T020000
TZOFFSETFROM:+0100
TZOFFSETTO:+0200
RDATE:20260329T020000
RDATE:20270328T020000
END:DAYLIGHT
END:VTIMEZONE
BEGIN:VEVENT
UID:d259cf5b-7853-4d85-873f-bb51409d349b
DTSTAMP:20260421T234856Z
CATEGORIES:Veranstaltung
CLASS:PUBLIC
DESCRIPTION:
DTSTART:20251116T130000Z
DTEND:20251116T130000Z
GEO:00;0
LOCATION:Friedhof Lucka
ORGANIZER:
SEQUENCE:1
SUMMARY:Gedenkfeier zum Totensonntag
TRANSP:OPAQUE
URL:http://neu.lucka.de/component/icagenda/73-gedenkfeier-zum-totensonntag-
 2?Itemid=435
END:VEVENT
END:VCALENDAR
