BEGIN:VCALENDAR
VERSION:2.0
PRODID:-//Stadt Lucka - Perle im Dreiländereck//NONSGML kigkonsult.se iCalc
 reator 2.30.10//
CALSCALE:GREGORIAN
METHOD:PUBLISH
UID:ec8dbd1d-5f6c-4db8-a4f3-495f02aa4c66
X-WR-CALNAME:iCagenda
X-WR-CALDESC:Event Management Extension for Joomla!
X-WR-RELCALID:3E26604A-50F4-4449-8B3E-E4F4932D05B5
X-WR-TIMEZONE:Europe/Berlin
BEGIN:VTIMEZONE
TZID:Europe/Berlin
BEGIN:STANDARD
TZNAME:CET
DTSTART:20241027T030000
TZOFFSETFROM:+0200
TZOFFSETTO:+0100
RDATE:20251026T030000
RDATE:20261025T030000
END:STANDARD
BEGIN:DAYLIGHT
TZNAME:CEST
DTSTART:20250330T020000
TZOFFSETFROM:+0100
TZOFFSETTO:+0200
RDATE:20260329T020000
RDATE:20270328T020000
END:DAYLIGHT
END:VTIMEZONE
BEGIN:VEVENT
UID:7c37193c-08ad-4ad2-9b33-b231a035c20b
DTSTAMP:20260422T012516Z
CATEGORIES:Feste
CLASS:PUBLIC
DESCRIPTION:
DTSTART:20251025T160000Z
DTEND:20251025T160000Z
GEO:00;0
LOCATION:'Deutsches Haus' Lucka
ORGANIZER:
SEQUENCE:1
SUMMARY:Oktoberfest JBL
TRANSP:OPAQUE
URL:http://neu.lucka.de/component/icagenda/71-oktoberfest-jbl?Itemid=435
END:VEVENT
END:VCALENDAR
