BEGIN:VCALENDAR
VERSION:2.0
PRODID:-//Stadt Lucka - Perle im Dreiländereck//NONSGML kigkonsult.se iCalc
 reator 2.30.10//
CALSCALE:GREGORIAN
METHOD:PUBLISH
UID:ac163647-cf66-498d-ac93-eec31eae139d
X-WR-CALNAME:iCagenda
X-WR-CALDESC:Event Management Extension for Joomla!
X-WR-RELCALID:3E26604A-50F4-4449-8B3E-E4F4932D05B5
X-WR-TIMEZONE:Europe/Berlin
BEGIN:VTIMEZONE
TZID:Europe/Berlin
BEGIN:STANDARD
TZNAME:CET
DTSTART:20241027T030000
TZOFFSETFROM:+0200
TZOFFSETTO:+0100
RDATE:20251026T030000
RDATE:20261025T030000
END:STANDARD
BEGIN:DAYLIGHT
TZNAME:CEST
DTSTART:20250330T020000
TZOFFSETFROM:+0100
TZOFFSETTO:+0200
RDATE:20260329T020000
END:DAYLIGHT
END:VTIMEZONE
BEGIN:VEVENT
UID:582bdfc2-0b78-44e2-a140-8f730e52dc30
DTSTAMP:20260421T221010Z
CATEGORIES:Veranstaltung
CLASS:PUBLIC
DESCRIPTION:
DTSTART:20250718T101100Z
DTEND:20250720T101100Z
GEO:00;0
LOCATION:Parkplatz Prößdorfer See
ORGANIZER:
SEQUENCE:1
SUMMARY:3. Benefiz Truckertreffen
TRANSP:OPAQUE
URL:http://neu.lucka.de/component/icagenda/67-3-benefiz-truckertreffen?Item
 id=435
END:VEVENT
END:VCALENDAR
