BEGIN:VCALENDAR
VERSION:2.0
PRODID:-//Stadt Lucka - Perle im Dreiländereck//NONSGML kigkonsult.se iCalc
 reator 2.30.10//
CALSCALE:GREGORIAN
METHOD:PUBLISH
UID:c64b70c6-b16f-4bae-9862-630bd8005b77
X-WR-CALNAME:iCagenda
X-WR-CALDESC:Event Management Extension for Joomla!
X-WR-RELCALID:3E26604A-50F4-4449-8B3E-E4F4932D05B5
X-WR-TIMEZONE:Europe/Berlin
BEGIN:VTIMEZONE
TZID:Europe/Berlin
BEGIN:STANDARD
TZNAME:CET
DTSTART:20241027T030000
TZOFFSETFROM:+0200
TZOFFSETTO:+0100
RDATE:20251026T030000
RDATE:20261025T030000
END:STANDARD
BEGIN:DAYLIGHT
TZNAME:CEST
DTSTART:20250330T020000
TZOFFSETFROM:+0100
TZOFFSETTO:+0200
RDATE:20260329T020000
END:DAYLIGHT
END:VTIMEZONE
BEGIN:VEVENT
UID:91b7d6aa-a3ee-4a23-ac0b-9dd911cb5653
DTSTAMP:20260421T202632Z
CATEGORIES:Feste
CLASS:PUBLIC
DESCRIPTION:
DTSTART:20250620T095700Z
DTEND:20250622T095700Z
GEO:00;0
LOCATION:Prößdorfer See\, kleiner Strand
ORGANIZER:
SEQUENCE:1
SUMMARY:4. Prößdorfer Wasserfest
TRANSP:OPAQUE
URL:http://neu.lucka.de/component/icagenda/65-4-proessdorfer-wasserfest?Ite
 mid=435
END:VEVENT
END:VCALENDAR
