BEGIN:VCALENDAR
VERSION:2.0
PRODID:-//Stadt Lucka - Perle im Dreiländereck//NONSGML kigkonsult.se iCalc
 reator 2.30.10//
CALSCALE:GREGORIAN
METHOD:PUBLISH
UID:91fea63c-2571-4bb3-a09d-9b5eab8f26d4
X-WR-CALNAME:iCagenda
X-WR-CALDESC:Event Management Extension for Joomla!
X-WR-RELCALID:3E26604A-50F4-4449-8B3E-E4F4932D05B5
X-WR-TIMEZONE:Europe/Berlin
BEGIN:VTIMEZONE
TZID:Europe/Berlin
BEGIN:STANDARD
TZNAME:CET
DTSTART:20241027T030000
TZOFFSETFROM:+0200
TZOFFSETTO:+0100
RDATE:20251026T030000
RDATE:20261025T030000
END:STANDARD
BEGIN:DAYLIGHT
TZNAME:CEST
DTSTART:20250330T020000
TZOFFSETFROM:+0100
TZOFFSETTO:+0200
RDATE:20260329T020000
END:DAYLIGHT
END:VTIMEZONE
BEGIN:VEVENT
UID:32feea2d-b983-4eb8-900f-9b3b17e37909
DTSTAMP:20260421T201954Z
CATEGORIES:Feste
CLASS:PUBLIC
DESCRIPTION:
DTSTART:20250613T095400Z
DTEND:20250613T095400Z
GEO:00;0
LOCATION:Kita 'Kleeblatt' Lucka
ORGANIZER:
SEQUENCE:1
SUMMARY:Kinderfest
TRANSP:OPAQUE
URL:http://neu.lucka.de/component/icagenda/63-kinderfest?Itemid=435
END:VEVENT
END:VCALENDAR
