BEGIN:VCALENDAR
VERSION:2.0
PRODID:-//Stadt Lucka - Perle im Dreiländereck//NONSGML kigkonsult.se iCalc
 reator 2.30.10//
CALSCALE:GREGORIAN
METHOD:PUBLISH
UID:a23f193d-99ef-44f4-875e-d04d540b4e59
X-WR-CALNAME:iCagenda
X-WR-CALDESC:Event Management Extension for Joomla!
X-WR-RELCALID:3E26604A-50F4-4449-8B3E-E4F4932D05B5
X-WR-TIMEZONE:Europe/Berlin
BEGIN:VTIMEZONE
TZID:Europe/Berlin
BEGIN:STANDARD
TZNAME:CET
DTSTART:20241027T030000
TZOFFSETFROM:+0200
TZOFFSETTO:+0100
RDATE:20251026T030000
RDATE:20261025T030000
END:STANDARD
BEGIN:DAYLIGHT
TZNAME:CEST
DTSTART:20250330T020000
TZOFFSETFROM:+0100
TZOFFSETTO:+0200
RDATE:20260329T020000
END:DAYLIGHT
END:VTIMEZONE
BEGIN:VEVENT
UID:bf96d75e-f58d-4477-b141-cb60d180018a
DTSTAMP:20260421T185723Z
CATEGORIES:Veranstaltung
CLASS:PUBLIC
DESCRIPTION:
DTSTART:20250503T120000Z
DTEND:20250503T120000Z
GEO:00;0
LOCATION:Vereinswiese GA 'Gute Hoffnung'
ORGANIZER:
SEQUENCE:1
SUMMARY:Gartentag
TRANSP:OPAQUE
URL:http://neu.lucka.de/component/icagenda/58-gartentag?Itemid=435
END:VEVENT
END:VCALENDAR
