BEGIN:VCALENDAR
VERSION:2.0
PRODID:-//Stadt Lucka - Perle im Dreiländereck//NONSGML kigkonsult.se iCalc
 reator 2.30.10//
CALSCALE:GREGORIAN
METHOD:PUBLISH
UID:ed0f4074-d05d-4114-b47d-9853139fef6a
X-WR-CALNAME:iCagenda
X-WR-CALDESC:Event Management Extension for Joomla!
X-WR-RELCALID:3E26604A-50F4-4449-8B3E-E4F4932D05B5
X-WR-TIMEZONE:Europe/Berlin
BEGIN:VTIMEZONE
TZID:Europe/Berlin
BEGIN:STANDARD
TZNAME:CET
DTSTART:20251026T030000
TZOFFSETFROM:+0200
TZOFFSETTO:+0100
RDATE:20261025T030000
END:STANDARD
BEGIN:DAYLIGHT
TZNAME:CEST
DTSTART:20250330T020000
TZOFFSETFROM:+0100
TZOFFSETTO:+0200
RDATE:20260329T020000
RDATE:20270328T020000
END:DAYLIGHT
END:VTIMEZONE
BEGIN:VEVENT
UID:cef28bdb-8aea-46be-a962-9b98171b9113
DTSTAMP:20260421T220839Z
CATEGORIES:Blutspende
CLASS:PUBLIC
DESCRIPTION:
DTSTART:20251216T153000Z
DTEND:20251216T183000Z
GEO:00;0
LOCATION:Grundschule Lucka
ORGANIZER:
SEQUENCE:1
SUMMARY:Blutspende
TRANSP:OPAQUE
URL:http://neu.lucka.de/component/icagenda/57-blutspende-5?Itemid=435
END:VEVENT
END:VCALENDAR
