BEGIN:VCALENDAR
VERSION:2.0
PRODID:-//Stadt Lucka - Perle im Dreiländereck//NONSGML kigkonsult.se iCalc
 reator 2.30.10//
CALSCALE:GREGORIAN
METHOD:PUBLISH
UID:7cd82ad9-9ff0-42fc-b535-2dbc19e6454a
X-WR-CALNAME:iCagenda
X-WR-CALDESC:Event Management Extension for Joomla!
X-WR-RELCALID:3E26604A-50F4-4449-8B3E-E4F4932D05B5
X-WR-TIMEZONE:Europe/Berlin
BEGIN:VTIMEZONE
TZID:Europe/Berlin
BEGIN:STANDARD
TZNAME:CET
DTSTART:20241027T030000
TZOFFSETFROM:+0200
TZOFFSETTO:+0100
RDATE:20251026T030000
RDATE:20261025T030000
END:STANDARD
BEGIN:DAYLIGHT
TZNAME:CEST
DTSTART:20250330T020000
TZOFFSETFROM:+0100
TZOFFSETTO:+0200
RDATE:20260329T020000
END:DAYLIGHT
END:VTIMEZONE
BEGIN:VEVENT
UID:9781e77c-2804-44ef-b720-140e532164e1
DTSTAMP:20260421T234759Z
CATEGORIES:Blutspende
CLASS:PUBLIC
DESCRIPTION:
DTSTART:20250826T143000Z
DTEND:20250826T173000Z
GEO:00;0
LOCATION:Grundschule Lucka
ORGANIZER:
SEQUENCE:1
SUMMARY:Blutspende
TRANSP:OPAQUE
URL:http://neu.lucka.de/component/icagenda/56-blutspende-4?Itemid=435
END:VEVENT
END:VCALENDAR
