BEGIN:VCALENDAR
VERSION:2.0
PRODID:-//Stadt Lucka - Perle im Dreiländereck//NONSGML kigkonsult.se iCalc
 reator 2.30.10//
CALSCALE:GREGORIAN
METHOD:PUBLISH
UID:db48da64-c8c4-4cb5-9c91-8bf7fce7ec90
X-WR-CALNAME:iCagenda
X-WR-CALDESC:Event Management Extension for Joomla!
X-WR-RELCALID:3E26604A-50F4-4449-8B3E-E4F4932D05B5
X-WR-TIMEZONE:Europe/Berlin
BEGIN:VTIMEZONE
TZID:Europe/Berlin
BEGIN:STANDARD
TZNAME:CET
DTSTART:20241027T030000
TZOFFSETFROM:+0200
TZOFFSETTO:+0100
RDATE:20251026T030000
RDATE:20261025T030000
END:STANDARD
BEGIN:DAYLIGHT
TZNAME:CEST
DTSTART:20250330T020000
TZOFFSETFROM:+0100
TZOFFSETTO:+0200
RDATE:20260329T020000
END:DAYLIGHT
END:VTIMEZONE
BEGIN:VEVENT
UID:2dcbaa52-e0a5-4a41-8cd2-fbec04fb69dc
DTSTAMP:20260421T201919Z
CATEGORIES:Blutspende
CLASS:PUBLIC
DESCRIPTION:
DTSTART:20250617T143000Z
DTEND:20250617T173000Z
GEO:00;0
LOCATION:Grundschule Lucka
ORGANIZER:
SEQUENCE:1
SUMMARY:Blutspende
TRANSP:OPAQUE
URL:http://neu.lucka.de/component/icagenda/55-blutspende-3?Itemid=435
END:VEVENT
END:VCALENDAR
