BEGIN:VCALENDAR
VERSION:2.0
PRODID:-//Stadt Lucka - Perle im Dreiländereck//NONSGML kigkonsult.se iCalc
 reator 2.30.10//
CALSCALE:GREGORIAN
METHOD:PUBLISH
UID:78b1aad6-f381-43ea-ad17-d843521b2f66
X-WR-CALNAME:iCagenda
X-WR-CALDESC:Event Management Extension for Joomla!
X-WR-RELCALID:3E26604A-50F4-4449-8B3E-E4F4932D05B5
X-WR-TIMEZONE:Europe/Berlin
BEGIN:VTIMEZONE
TZID:Europe/Berlin
BEGIN:STANDARD
TZNAME:CET
DTSTART:20241027T030000
TZOFFSETFROM:+0200
TZOFFSETTO:+0100
RDATE:20251026T030000
RDATE:20261025T030000
END:STANDARD
BEGIN:DAYLIGHT
TZNAME:CEST
DTSTART:20250330T020000
TZOFFSETFROM:+0100
TZOFFSETTO:+0200
RDATE:20260329T020000
END:DAYLIGHT
END:VTIMEZONE
BEGIN:VEVENT
UID:ebf822f1-29c8-4429-9914-bee4e76426c0
DTSTAMP:20260421T171401Z
CATEGORIES:Feste
CLASS:PUBLIC
DESCRIPTION:
DTSTART:20250430T140000Z
DTEND:20250430T140000Z
GEO:00;0
LOCATION:Neumarkt Clara-Zetkin-Straße
ORGANIZER:
SEQUENCE:1
SUMMARY:Maibaumsetzen in Lucka
TRANSP:OPAQUE
URL:http://neu.lucka.de/component/icagenda/52-maibaumsetzen-in-lucka-3?Item
 id=435
END:VEVENT
END:VCALENDAR
