BEGIN:VCALENDAR
VERSION:2.0
PRODID:-//Stadt Lucka - Perle im Dreiländereck//NONSGML kigkonsult.se iCalc
 reator 2.30.10//
CALSCALE:GREGORIAN
METHOD:PUBLISH
UID:c4ce6521-0176-4f1b-a65b-b293fc95823c
X-WR-CALNAME:iCagenda
X-WR-CALDESC:Event Management Extension for Joomla!
X-WR-RELCALID:3E26604A-50F4-4449-8B3E-E4F4932D05B5
X-WR-TIMEZONE:Europe/Berlin
BEGIN:VTIMEZONE
TZID:Europe/Berlin
BEGIN:STANDARD
TZNAME:CET
DTSTART:20241027T030000
TZOFFSETFROM:+0200
TZOFFSETTO:+0100
RDATE:20251026T030000
END:STANDARD
BEGIN:DAYLIGHT
TZNAME:CEST
DTSTART:20240331T020000
TZOFFSETFROM:+0100
TZOFFSETTO:+0200
RDATE:20250330T020000
RDATE:20260329T020000
END:DAYLIGHT
END:VTIMEZONE
BEGIN:VEVENT
UID:0e06bea6-3bcc-4c24-9ac7-89171d183942
DTSTAMP:20260421T185754Z
CATEGORIES:Ausstellungen
CLASS:PUBLIC
DESCRIPTION:
DTSTART:20250321T150000Z
DTEND:20250321T170000Z
GEO:00;0
LOCATION:Grundschule Lucka
ORGANIZER:
SEQUENCE:1
SUMMARY:Tag der offenen Tür
TRANSP:OPAQUE
URL:http://neu.lucka.de/component/icagenda/51-tag-der-offenen-tuer?Itemid=4
 35
END:VEVENT
END:VCALENDAR
