BEGIN:VCALENDAR
VERSION:2.0
PRODID:-//Stadt Lucka - Perle im Dreiländereck//NONSGML kigkonsult.se iCalc
 reator 2.30.10//
CALSCALE:GREGORIAN
METHOD:PUBLISH
UID:5bbb0c2a-974e-49e5-a65d-60ff7b50dec7
X-WR-CALNAME:iCagenda
X-WR-CALDESC:Event Management Extension for Joomla!
X-WR-RELCALID:3E26604A-50F4-4449-8B3E-E4F4932D05B5
X-WR-TIMEZONE:Europe/Berlin
BEGIN:VTIMEZONE
TZID:Europe/Berlin
BEGIN:STANDARD
TZNAME:CET
DTSTART:20241027T030000
TZOFFSETFROM:+0200
TZOFFSETTO:+0100
RDATE:20251026T030000
END:STANDARD
BEGIN:DAYLIGHT
TZNAME:CEST
DTSTART:20240331T020000
TZOFFSETFROM:+0100
TZOFFSETTO:+0200
RDATE:20250330T020000
RDATE:20260329T020000
END:DAYLIGHT
END:VTIMEZONE
BEGIN:VEVENT
UID:4f5a7cbd-db28-4bb1-9157-638472618cac
DTSTAMP:20260421T201919Z
CATEGORIES:Veranstaltung
CLASS:PUBLIC
DESCRIPTION:
DTSTART:20250223T140000Z
DTEND:20250223T140000Z
GEO:00;0
LOCATION:'Deutsches Haus' Lucka
ORGANIZER:
SEQUENCE:1
SUMMARY:Kinderfasching
TRANSP:OPAQUE
URL:http://neu.lucka.de/component/icagenda/49-kinderfasching-2?Itemid=435
END:VEVENT
END:VCALENDAR
