BEGIN:VCALENDAR
VERSION:2.0
PRODID:-//Stadt Lucka - Perle im Dreiländereck//NONSGML kigkonsult.se iCalc
 reator 2.30.10//
CALSCALE:GREGORIAN
METHOD:PUBLISH
UID:448a096a-d038-4036-a7b0-c6225d74a3c3
X-WR-CALNAME:iCagenda
X-WR-CALDESC:Event Management Extension for Joomla!
X-WR-RELCALID:3E26604A-50F4-4449-8B3E-E4F4932D05B5
X-WR-TIMEZONE:Europe/Berlin
BEGIN:VTIMEZONE
TZID:Europe/Berlin
BEGIN:STANDARD
TZNAME:CET
DTSTART:20241027T030000
TZOFFSETFROM:+0200
TZOFFSETTO:+0100
RDATE:20251026T030000
END:STANDARD
BEGIN:DAYLIGHT
TZNAME:CEST
DTSTART:20240331T020000
TZOFFSETFROM:+0100
TZOFFSETTO:+0200
RDATE:20250330T020000
RDATE:20260329T020000
END:DAYLIGHT
END:VTIMEZONE
BEGIN:VEVENT
UID:7a3cf1b6-02ca-4cd7-90de-b60ee4441bc9
DTSTAMP:20260421T234825Z
CATEGORIES:Lesungen
CLASS:PUBLIC
DESCRIPTION:
DTSTART:20241210T150000Z
DTEND:20241210T150000Z
GEO:00;0
LOCATION:Bibliothek Lucka\, Clara-Zetkin-Straße 28\, 04613 Lucka
ORGANIZER;CN=:biboluckagrosse@web.de
SEQUENCE:1
SUMMARY:Wein-Lese-Veranstaltung
TRANSP:OPAQUE
URL:http://neu.lucka.de/component/icagenda/44-wein-lese-veranstaltung?Itemi
 d=435
END:VEVENT
END:VCALENDAR
