BEGIN:VCALENDAR
VERSION:2.0
PRODID:-//Stadt Lucka - Perle im Dreiländereck//NONSGML kigkonsult.se iCalc
 reator 2.30.10//
CALSCALE:GREGORIAN
METHOD:PUBLISH
UID:1b03dd0e-5a3d-4e9b-9481-95bb5d756d2d
X-WR-CALNAME:iCagenda
X-WR-CALDESC:Event Management Extension for Joomla!
X-WR-RELCALID:3E26604A-50F4-4449-8B3E-E4F4932D05B5
X-WR-TIMEZONE:Europe/Berlin
BEGIN:VTIMEZONE
TZID:Europe/Berlin
BEGIN:STANDARD
TZNAME:CET
DTSTART:20241027T030000
TZOFFSETFROM:+0200
TZOFFSETTO:+0100
RDATE:20251026T030000
END:STANDARD
BEGIN:DAYLIGHT
TZNAME:CEST
DTSTART:20240331T020000
TZOFFSETFROM:+0100
TZOFFSETTO:+0200
RDATE:20250330T020000
RDATE:20260329T020000
END:DAYLIGHT
END:VTIMEZONE
BEGIN:VEVENT
UID:09ee9d3f-6aeb-4163-93f4-df3d23404d1e
DTSTAMP:20260422T032115Z
CATEGORIES:Lesungen
CLASS:PUBLIC
DESCRIPTION:
DTSTART:20241029T160000Z
DTEND:20241029T160000Z
GEO:00;0
LOCATION:Lesecafé der Bibliothek Lucka\, Clara-Zetkin-Straße 28\, 04613 Luc
 ka
ORGANIZER;CN=:biboluckagrosse@web.de
SEQUENCE:1
SUMMARY:Comedylesung mit André Kudernatsch
TRANSP:OPAQUE
URL:http://neu.lucka.de/component/icagenda/42-comedylesung-mit-andre-kudern
 atsch?Itemid=435
END:VEVENT
END:VCALENDAR
