BEGIN:VCALENDAR
VERSION:2.0
PRODID:-//Stadt Lucka - Perle im Dreiländereck//NONSGML kigkonsult.se iCalc
 reator 2.30.10//
CALSCALE:GREGORIAN
METHOD:PUBLISH
UID:707cc33d-4a9d-441a-afba-773693dee9cb
X-WR-CALNAME:iCagenda
X-WR-CALDESC:Event Management Extension for Joomla!
X-WR-RELCALID:3E26604A-50F4-4449-8B3E-E4F4932D05B5
X-WR-TIMEZONE:Europe/Berlin
BEGIN:VTIMEZONE
TZID:Europe/Berlin
BEGIN:STANDARD
TZNAME:CET
DTSTART:20241027T030000
TZOFFSETFROM:+0200
TZOFFSETTO:+0100
RDATE:20251026T030000
END:STANDARD
BEGIN:DAYLIGHT
TZNAME:CEST
DTSTART:20240331T020000
TZOFFSETFROM:+0100
TZOFFSETTO:+0200
RDATE:20250330T020000
RDATE:20260329T020000
END:DAYLIGHT
END:VTIMEZONE
BEGIN:VEVENT
UID:8a2ac6d1-215f-4102-92ba-f11db7d43d22
DTSTAMP:20260422T012515Z
CATEGORIES:Ausstellungen
CLASS:PUBLIC
DESCRIPTION:
DTSTART:20241130T120000Z
DTEND:20241130T160000Z
GEO:00;0
LOCATION:Heimatmuseum Lucka
ORGANIZER:
SEQUENCE:1
SUMMARY:Weihnachtliche Ausstellung
TRANSP:OPAQUE
URL:http://neu.lucka.de/component/icagenda/39-weihnachtliche-ausstellung?It
 emid=435
END:VEVENT
END:VCALENDAR
