BEGIN:VCALENDAR
VERSION:2.0
PRODID:-//Stadt Lucka - Perle im Dreiländereck//NONSGML kigkonsult.se iCalc
 reator 2.30.10//
CALSCALE:GREGORIAN
METHOD:PUBLISH
UID:f2b7faec-f97b-4432-a5c6-12d06dd4f0b6
X-WR-CALNAME:iCagenda
X-WR-CALDESC:Event Management Extension for Joomla!
X-WR-RELCALID:3E26604A-50F4-4449-8B3E-E4F4932D05B5
X-WR-TIMEZONE:Europe/Berlin
BEGIN:VTIMEZONE
TZID:Europe/Berlin
BEGIN:STANDARD
TZNAME:CET
DTSTART:20231029T030000
TZOFFSETFROM:+0200
TZOFFSETTO:+0100
RDATE:20241027T030000
RDATE:20251026T030000
END:STANDARD
BEGIN:DAYLIGHT
TZNAME:CEST
DTSTART:20240331T020000
TZOFFSETFROM:+0100
TZOFFSETTO:+0200
RDATE:20250330T020000
RDATE:20260329T020000
END:DAYLIGHT
END:VTIMEZONE
BEGIN:VEVENT
UID:f0e629f8-fd3a-44ee-b739-e4a1f9a653a5
DTSTAMP:20260422T032115Z
CATEGORIES:Feste
CLASS:PUBLIC
DESCRIPTION:
DTSTART:20241012T080000Z
DTEND:20241012T100000Z
GEO:00;0
LOCATION:Tivoli Lucka
ORGANIZER:
SEQUENCE:1
SUMMARY:Festveranstaltung
TRANSP:OPAQUE
URL:http://neu.lucka.de/component/icagenda/37-festveranstaltung?Itemid=435
END:VEVENT
END:VCALENDAR
