BEGIN:VCALENDAR
VERSION:2.0
PRODID:-//Stadt Lucka - Perle im Dreiländereck//NONSGML kigkonsult.se iCalc
 reator 2.30.10//
CALSCALE:GREGORIAN
METHOD:PUBLISH
UID:250a3698-1a29-4521-8373-6bb7141d4fef
X-WR-CALNAME:iCagenda
X-WR-CALDESC:Event Management Extension for Joomla!
X-WR-RELCALID:3E26604A-50F4-4449-8B3E-E4F4932D05B5
X-WR-TIMEZONE:Europe/Berlin
BEGIN:VTIMEZONE
TZID:Europe/Berlin
BEGIN:STANDARD
TZNAME:CET
DTSTART:20231029T030000
TZOFFSETFROM:+0200
TZOFFSETTO:+0100
RDATE:20241027T030000
RDATE:20251026T030000
END:STANDARD
BEGIN:DAYLIGHT
TZNAME:CEST
DTSTART:20240331T020000
TZOFFSETFROM:+0100
TZOFFSETTO:+0200
RDATE:20250330T020000
END:DAYLIGHT
END:VTIMEZONE
BEGIN:VEVENT
UID:fd7553cd-bda6-4941-9c46-9587f67f774f
DTSTAMP:20260421T234824Z
CATEGORIES:Veranstaltung
CLASS:PUBLIC
DESCRIPTION:
DTSTART:20240727T110000Z
DTEND:20240727T153000Z
GEO:00;0
LOCATION:Heimatmuseum Lucka
ORGANIZER:
SEQUENCE:1
SUMMARY:Workshop „Die Katze als beliebtes Haustier“
TRANSP:OPAQUE
URL:http://neu.lucka.de/component/icagenda/36-workshop-die-katze-als-belieb
 tes-haustier?Itemid=435
END:VEVENT
END:VCALENDAR
