BEGIN:VCALENDAR
VERSION:2.0
PRODID:-//Stadt Lucka - Perle im Dreiländereck//NONSGML kigkonsult.se iCalc
 reator 2.30.10//
CALSCALE:GREGORIAN
METHOD:PUBLISH
UID:0f58a17f-2994-4542-b102-3a080588eea5
X-WR-CALNAME:iCagenda
X-WR-CALDESC:Event Management Extension for Joomla!
X-WR-RELCALID:3E26604A-50F4-4449-8B3E-E4F4932D05B5
X-WR-TIMEZONE:Europe/Berlin
BEGIN:VTIMEZONE
TZID:Europe/Berlin
BEGIN:STANDARD
TZNAME:CET
DTSTART:20231029T030000
TZOFFSETFROM:+0200
TZOFFSETTO:+0100
RDATE:20241027T030000
END:STANDARD
BEGIN:DAYLIGHT
TZNAME:CEST
DTSTART:20230326T020000
TZOFFSETFROM:+0100
TZOFFSETTO:+0200
RDATE:20240331T020000
RDATE:20250330T020000
END:DAYLIGHT
END:VTIMEZONE
BEGIN:VEVENT
UID:b6edeeca-26d5-448e-b52b-7ac8e136931e
DTSTAMP:20260421T220839Z
CATEGORIES:Sitzung des Stadtrates
CLASS:PUBLIC
DESCRIPTION:
DTSTART:20240220T170000Z
DTEND:20240220T170000Z
GEO:00;0
LOCATION:Tivoli\, 04613 Lucka\, Schulplatz 12
ORGANIZER:
SEQUENCE:1
SUMMARY:Sitzung des Stadtrates
TRANSP:OPAQUE
URL:http://neu.lucka.de/component/icagenda/34-sitzung-des-stadtrates?Itemid
 =435
END:VEVENT
END:VCALENDAR
