BEGIN:VCALENDAR
VERSION:2.0
PRODID:-//Stadt Lucka - Perle im Dreiländereck//NONSGML kigkonsult.se iCalc
 reator 2.30.10//
CALSCALE:GREGORIAN
METHOD:PUBLISH
UID:29520e92-2b67-43aa-8103-a98e2f28ad07
X-WR-CALNAME:iCagenda
X-WR-CALDESC:Event Management Extension for Joomla!
X-WR-RELCALID:3E26604A-50F4-4449-8B3E-E4F4932D05B5
X-WR-TIMEZONE:Europe/Berlin
BEGIN:VTIMEZONE
TZID:Europe/Berlin
BEGIN:STANDARD
TZNAME:CET
DTSTART:20231029T030000
TZOFFSETFROM:+0200
TZOFFSETTO:+0100
RDATE:20241027T030000
RDATE:20251026T030000
END:STANDARD
BEGIN:DAYLIGHT
TZNAME:CEST
DTSTART:20240331T020000
TZOFFSETFROM:+0100
TZOFFSETTO:+0200
RDATE:20250330T020000
END:DAYLIGHT
END:VTIMEZONE
BEGIN:VEVENT
UID:17426b07-3c6a-4960-8d3a-2764a6061d57
DTSTAMP:20260421T201918Z
CATEGORIES:Veranstaltung
CLASS:PUBLIC
DESCRIPTION:
DTSTART:20240509T080000Z
DTEND:20240509T080000Z
GEO:00;0
LOCATION:An der Seerose Prößdorf
ORGANIZER:
SEQUENCE:1
SUMMARY:Himmelfahrt
TRANSP:OPAQUE
URL:http://neu.lucka.de/component/icagenda/31-himmelfahrt?Itemid=435
END:VEVENT
END:VCALENDAR
