BEGIN:VCALENDAR
VERSION:2.0
PRODID:-//Stadt Lucka - Perle im Dreiländereck//NONSGML kigkonsult.se iCalc
 reator 2.30.10//
CALSCALE:GREGORIAN
METHOD:PUBLISH
UID:f149dd92-7bdb-4b8a-bb70-66e9a368237b
X-WR-CALNAME:iCagenda
X-WR-CALDESC:Event Management Extension for Joomla!
X-WR-RELCALID:3E26604A-50F4-4449-8B3E-E4F4932D05B5
X-WR-TIMEZONE:Europe/Berlin
BEGIN:VTIMEZONE
TZID:Europe/Berlin
BEGIN:STANDARD
TZNAME:CET
DTSTART:20221030T030000
TZOFFSETFROM:+0200
TZOFFSETTO:+0100
RDATE:20231029T030000
END:STANDARD
BEGIN:DAYLIGHT
TZNAME:CEST
DTSTART:20230326T020000
TZOFFSETFROM:+0100
TZOFFSETTO:+0200
RDATE:20240331T020000
END:DAYLIGHT
END:VTIMEZONE
BEGIN:VEVENT
UID:3a96e8e5-b925-458a-a878-d27169758ae1
DTSTAMP:20260421T201918Z
CATEGORIES:Blutspende
CLASS:PUBLIC
DESCRIPTION:
DTSTART:20230418T143000Z
DTEND:20230418T173000Z
GEO:00;0
LOCATION:Grundschule Lucka
ORGANIZER:
SEQUENCE:1
SUMMARY:Blutspende
TRANSP:OPAQUE
URL:http://neu.lucka.de/component/icagenda/3-blutspende?Itemid=435
END:VEVENT
END:VCALENDAR
