BEGIN:VCALENDAR
VERSION:2.0
PRODID:-//Stadt Lucka - Perle im Dreiländereck//NONSGML kigkonsult.se iCalc
 reator 2.30.10//
CALSCALE:GREGORIAN
METHOD:PUBLISH
UID:2948adf1-3a75-4d5b-a78f-f2dc8948cd86
X-WR-CALNAME:iCagenda
X-WR-CALDESC:Event Management Extension for Joomla!
X-WR-RELCALID:3E26604A-50F4-4449-8B3E-E4F4932D05B5
X-WR-TIMEZONE:Europe/Berlin
BEGIN:VTIMEZONE
TZID:Europe/Berlin
BEGIN:STANDARD
TZNAME:CET
DTSTART:20231029T030000
TZOFFSETFROM:+0200
TZOFFSETTO:+0100
RDATE:20241027T030000
RDATE:20251026T030000
END:STANDARD
BEGIN:DAYLIGHT
TZNAME:CEST
DTSTART:20240331T020000
TZOFFSETFROM:+0100
TZOFFSETTO:+0200
RDATE:20250330T020000
END:DAYLIGHT
END:VTIMEZONE
BEGIN:VEVENT
UID:37085ad8-e495-4ad8-92a4-47c51df7a2e5
DTSTAMP:20260421T185754Z
CATEGORIES:Veranstaltung
CLASS:PUBLIC
DESCRIPTION:
DTSTART:20240430T133000Z
DTEND:20240430T133000Z
GEO:00;0
LOCATION:An der seerose Prößdorf
ORGANIZER:
SEQUENCE:1
SUMMARY:Maibaumsetzen in Prößdorf
TRANSP:OPAQUE
URL:http://neu.lucka.de/component/icagenda/24-maibaumsetzen-in-proessdorf-2
 ?Itemid=435
END:VEVENT
END:VCALENDAR
