BEGIN:VCALENDAR
VERSION:2.0
PRODID:-//Stadt Lucka - Perle im Dreiländereck//NONSGML kigkonsult.se iCalc
 reator 2.30.10//
CALSCALE:GREGORIAN
METHOD:PUBLISH
UID:b33214af-a705-40e8-a1e9-91c6b41a07b8
X-WR-CALNAME:iCagenda
X-WR-CALDESC:Event Management Extension for Joomla!
X-WR-RELCALID:3E26604A-50F4-4449-8B3E-E4F4932D05B5
X-WR-TIMEZONE:Europe/Berlin
BEGIN:VTIMEZONE
TZID:Europe/Berlin
BEGIN:STANDARD
TZNAME:CET
DTSTART:20241027T030000
TZOFFSETFROM:+0200
TZOFFSETTO:+0100
RDATE:20251026T030000
END:STANDARD
BEGIN:DAYLIGHT
TZNAME:CEST
DTSTART:20240331T020000
TZOFFSETFROM:+0100
TZOFFSETTO:+0200
RDATE:20250330T020000
RDATE:20260329T020000
END:DAYLIGHT
END:VTIMEZONE
BEGIN:VEVENT
UID:8a091bdc-c75d-4090-ba16-1f3817cbdfa2
DTSTAMP:20260421T234800Z
CATEGORIES:Konzerte
CLASS:PUBLIC
DESCRIPTION:
DTSTART:20241224T163000Z
DTEND:20241224T163000Z
GEO:00;0
LOCATION:vor der Grund- und Regelschule
ORGANIZER:
SEQUENCE:1
SUMMARY:Weihnachtskonzert mit dem JBL e.V.
TRANSP:OPAQUE
URL:http://neu.lucka.de/component/icagenda/22-weihnachtskonzert-mit-dem-jbl
 -e-v?Itemid=435
END:VEVENT
END:VCALENDAR
