BEGIN:VCALENDAR
VERSION:2.0
PRODID:-//Stadt Lucka - Perle im Dreiländereck//NONSGML kigkonsult.se iCalc
 reator 2.30.10//
CALSCALE:GREGORIAN
METHOD:PUBLISH
UID:ac4d6380-db92-424d-a5f9-9f56757e93d8
X-WR-CALNAME:iCagenda
X-WR-CALDESC:Event Management Extension for Joomla!
X-WR-RELCALID:3E26604A-50F4-4449-8B3E-E4F4932D05B5
X-WR-TIMEZONE:Europe/Berlin
BEGIN:VTIMEZONE
TZID:Europe/Berlin
BEGIN:STANDARD
TZNAME:CET
DTSTART:20221030T030000
TZOFFSETFROM:+0200
TZOFFSETTO:+0100
RDATE:20231029T030000
END:STANDARD
BEGIN:DAYLIGHT
TZNAME:CEST
DTSTART:20230326T020000
TZOFFSETFROM:+0100
TZOFFSETTO:+0200
RDATE:20240331T020000
END:DAYLIGHT
END:VTIMEZONE
BEGIN:VEVENT
UID:50dea878-ba2e-4348-bd10-1df60b558e77
DTSTAMP:20260421T202011Z
CATEGORIES:Konzerte
CLASS:PUBLIC
DESCRIPTION:
DTSTART:20230422T130000Z
DTEND:20230422T130000Z
GEO:00;0
LOCATION:'Deutsches Haus' Saal
ORGANIZER:
SEQUENCE:1
SUMMARY:Frühjahrskonzert JBL
TRANSP:OPAQUE
URL:http://neu.lucka.de/component/icagenda/2-fr%C3%BChjahrskonzert-jbl?Item
 id=435
END:VEVENT
END:VCALENDAR
