BEGIN:VCALENDAR
VERSION:2.0
PRODID:-//Stadt Lucka - Perle im Dreiländereck//NONSGML kigkonsult.se iCalc
 reator 2.30.10//
CALSCALE:GREGORIAN
METHOD:PUBLISH
UID:8b9414cb-7472-4543-b191-288256658496
X-WR-CALNAME:iCagenda
X-WR-CALDESC:Event Management Extension for Joomla!
X-WR-RELCALID:3E26604A-50F4-4449-8B3E-E4F4932D05B5
X-WR-TIMEZONE:Europe/Berlin
BEGIN:VTIMEZONE
TZID:Europe/Berlin
BEGIN:STANDARD
TZNAME:CET
DTSTART:20241027T030000
TZOFFSETFROM:+0200
TZOFFSETTO:+0100
RDATE:20251026T030000
END:STANDARD
BEGIN:DAYLIGHT
TZNAME:CEST
DTSTART:20240331T020000
TZOFFSETFROM:+0100
TZOFFSETTO:+0200
RDATE:20250330T020000
RDATE:20260329T020000
END:DAYLIGHT
END:VTIMEZONE
BEGIN:VEVENT
UID:36725b49-236f-408a-9fc0-f43b327dfa75
DTSTAMP:20260422T012516Z
CATEGORIES:Veranstaltung
CLASS:PUBLIC
DESCRIPTION:
DTSTART:20241116T161100Z
DTEND:20241116T161100Z
GEO:00;0
LOCATION:Parkplatz vor der Kirche
ORGANIZER:
SEQUENCE:1
SUMMARY:Karnevalseroffnung
TRANSP:OPAQUE
URL:http://neu.lucka.de/component/icagenda/17-karnevalseroffnung?Itemid=435
END:VEVENT
END:VCALENDAR
