BEGIN:VCALENDAR
VERSION:2.0
PRODID:-//Stadt Lucka - Perle im Dreiländereck//NONSGML kigkonsult.se iCalc
 reator 2.30.10//
CALSCALE:GREGORIAN
METHOD:PUBLISH
UID:56851db4-6ba5-4d42-8629-db06c16e0585
X-WR-CALNAME:iCagenda
X-WR-CALDESC:Event Management Extension for Joomla!
X-WR-RELCALID:3E26604A-50F4-4449-8B3E-E4F4932D05B5
X-WR-TIMEZONE:Europe/Berlin
BEGIN:VTIMEZONE
TZID:Europe/Berlin
BEGIN:STANDARD
TZNAME:CET
DTSTART:20241027T030000
TZOFFSETFROM:+0200
TZOFFSETTO:+0100
RDATE:20251026T030000
END:STANDARD
BEGIN:DAYLIGHT
TZNAME:CEST
DTSTART:20240331T020000
TZOFFSETFROM:+0100
TZOFFSETTO:+0200
RDATE:20250330T020000
RDATE:20260329T020000
END:DAYLIGHT
END:VTIMEZONE
BEGIN:VEVENT
UID:d6e4f0a5-2bcc-406d-b25f-3465ba926ec7
DTSTAMP:20260422T012306Z
CATEGORIES:Veranstaltung
CLASS:PUBLIC
DESCRIPTION:
DTSTART:20241109T090000Z
DTEND:20241109T140000Z
GEO:00;0
LOCATION:Heimatmuseum Lucka
ORGANIZER:
SEQUENCE:1
SUMMARY:Schätze oder Kram
TRANSP:OPAQUE
URL:http://neu.lucka.de/component/icagenda/16-schaetze-oder-kram-3?Itemid=4
 35
END:VEVENT
END:VCALENDAR
