BEGIN:VCALENDAR
VERSION:2.0
PRODID:-//Stadt Lucka - Perle im Dreiländereck//NONSGML kigkonsult.se iCalc
 reator 2.30.10//
CALSCALE:GREGORIAN
METHOD:PUBLISH
UID:c4402ea2-d0ed-4769-963d-8d648a394bbc
X-WR-CALNAME:iCagenda
X-WR-CALDESC:Event Management Extension for Joomla!
X-WR-RELCALID:3E26604A-50F4-4449-8B3E-E4F4932D05B5
X-WR-TIMEZONE:Europe/Berlin
BEGIN:VTIMEZONE
TZID:Europe/Berlin
BEGIN:STANDARD
TZNAME:CET
DTSTART:20231029T030000
TZOFFSETFROM:+0200
TZOFFSETTO:+0100
RDATE:20241027T030000
RDATE:20251026T030000
END:STANDARD
BEGIN:DAYLIGHT
TZNAME:CEST
DTSTART:20240331T020000
TZOFFSETFROM:+0100
TZOFFSETTO:+0200
RDATE:20250330T020000
END:DAYLIGHT
END:VTIMEZONE
BEGIN:VEVENT
UID:c48b3905-f13d-405a-a123-9f8f5883266d
DTSTAMP:20260421T201626Z
CATEGORIES:Veranstaltung
CLASS:PUBLIC
DESCRIPTION:
DTSTART:20240511T080000Z
DTEND:20240511T130000Z
GEO:00;0
LOCATION:Heimatmuseum Lucka
ORGANIZER:
SEQUENCE:1
SUMMARY:Schätze oder Kram
TRANSP:OPAQUE
URL:http://neu.lucka.de/component/icagenda/12-schaetze-oder-kram?Itemid=435
END:VEVENT
END:VCALENDAR
