BEGIN:VCALENDAR
VERSION:2.0
PRODID:-//Stadt Lucka - Perle im Dreiländereck//NONSGML kigkonsult.se iCalc
 reator 2.30.10//
CALSCALE:GREGORIAN
METHOD:PUBLISH
UID:9500bf6d-4bba-416a-bf08-c25e66f84d48
X-WR-CALNAME:iCagenda
X-WR-CALDESC:Event Management Extension for Joomla!
X-WR-RELCALID:3E26604A-50F4-4449-8B3E-E4F4932D05B5
X-WR-TIMEZONE:Europe/Berlin
BEGIN:VTIMEZONE
TZID:Europe/Berlin
BEGIN:STANDARD
TZNAME:CET
DTSTART:20231029T030000
TZOFFSETFROM:+0200
TZOFFSETTO:+0100
RDATE:20241027T030000
RDATE:20251026T030000
END:STANDARD
BEGIN:DAYLIGHT
TZNAME:CEST
DTSTART:20240331T020000
TZOFFSETFROM:+0100
TZOFFSETTO:+0200
RDATE:20250330T020000
END:DAYLIGHT
END:VTIMEZONE
BEGIN:VEVENT
UID:e5a35179-9362-44f2-a938-26603cac0daa
DTSTAMP:20260421T202628Z
CATEGORIES:Märkte
CLASS:PUBLIC
DESCRIPTION:
DTSTART:20240511T050000Z
DTEND:20240511T110000Z
GEO:00;0
LOCATION:Neumarkt Clara-Zetkin-Straße
ORGANIZER:
SEQUENCE:1
SUMMARY:Trödelmarkt
TRANSP:OPAQUE
URL:http://neu.lucka.de/component/icagenda/11-troedelmarkt?Itemid=435
END:VEVENT
END:VCALENDAR
