BEGIN:VCALENDAR
VERSION:2.0
PRODID:-//Stadt Lucka - Perle im Dreiländereck//NONSGML kigkonsult.se iCalc
 reator 2.30.10//
CALSCALE:GREGORIAN
METHOD:PUBLISH
UID:0f5e5077-d82d-4297-b8bc-0d9580e8a76e
X-WR-CALNAME:iCagenda
X-WR-CALDESC:Event Management Extension for Joomla!
X-WR-RELCALID:3E26604A-50F4-4449-8B3E-E4F4932D05B5
X-WR-TIMEZONE:Europe/Berlin
BEGIN:VTIMEZONE
TZID:Europe/Berlin
BEGIN:STANDARD
TZNAME:CET
DTSTART:20221030T030000
TZOFFSETFROM:+0200
TZOFFSETTO:+0100
RDATE:20231029T030000
RDATE:20241027T030000
END:STANDARD
BEGIN:DAYLIGHT
TZNAME:CEST
DTSTART:20230326T020000
TZOFFSETFROM:+0100
TZOFFSETTO:+0200
RDATE:20240331T020000
END:DAYLIGHT
END:VTIMEZONE
BEGIN:VEVENT
UID:d63b226b-f7da-42de-a599-66d7199a5418
DTSTAMP:20260421T203834Z
CATEGORIES:Veranstaltung
CLASS:PUBLIC
DESCRIPTION:
DTSTART:20230429T120000Z
DTEND:20230429T120000Z
GEO:00;0
LOCATION:Neumarkt\, Clara-Zetkin-Straße
ORGANIZER:
SEQUENCE:1
SUMMARY:Maibaumsetzen in Lucka
TRANSP:OPAQUE
URL:http://neu.lucka.de/component/icagenda/1-maibaumsetzen-in-lucka?Itemid=
 435
END:VEVENT
END:VCALENDAR
