BEGIN:VCALENDAR
VERSION:2.0
PRODID:-//Stadt Lucka - Perle im Dreiländereck//NONSGML kigkonsult.se iCalc
 reator 2.30.10//
CALSCALE:GREGORIAN
METHOD:PUBLISH
UID:90ad6858-5e39-4c3c-a6ce-1621e750e658
X-WR-CALNAME:iCagenda
X-WR-CALDESC:Event Management Extension for Joomla!
X-WR-RELCALID:3E26604A-50F4-4449-8B3E-E4F4932D05B5
X-WR-TIMEZONE:Europe/Berlin
BEGIN:VTIMEZONE
TZID:Europe/Berlin
BEGIN:STANDARD
TZNAME:CET
DTSTART:20251026T030000
TZOFFSETFROM:+0200
TZOFFSETTO:+0100
RDATE:20261025T030000
RDATE:20271031T030000
END:STANDARD
BEGIN:DAYLIGHT
TZNAME:CEST
DTSTART:20260329T020000
TZOFFSETFROM:+0100
TZOFFSETTO:+0200
RDATE:20270328T020000
END:DAYLIGHT
END:VTIMEZONE
BEGIN:VEVENT
UID:75b8f25b-617c-415d-9925-94c739f56ad1
DTSTAMP:20260421T185754Z
CATEGORIES:Feste
CLASS:PUBLIC
DESCRIPTION:
DTSTART:20260619T130000Z
DTEND:20260619T160000Z
GEO:00;0
LOCATION:Kita 'Kleeblatt'
ORGANIZER:
SEQUENCE:1
SUMMARY:Kinderfest in der Kita 'Kleeblatt'
TRANSP:OPAQUE
URL:http://neu.lucka.de/calender-lucka/95-kinderfest-in-der-kita-kleeblatt
END:VEVENT
END:VCALENDAR
