BEGIN:VCALENDAR
VERSION:2.0
PRODID:-//Stadt Lucka - Perle im Dreiländereck//NONSGML kigkonsult.se iCalc
 reator 2.30.10//
CALSCALE:GREGORIAN
METHOD:PUBLISH
UID:527b4854-0076-467d-aca5-b67fad98287a
X-WR-CALNAME:iCagenda
X-WR-CALDESC:Event Management Extension for Joomla!
X-WR-RELCALID:3E26604A-50F4-4449-8B3E-E4F4932D05B5
X-WR-TIMEZONE:Europe/Berlin
BEGIN:VTIMEZONE
TZID:Europe/Berlin
BEGIN:STANDARD
TZNAME:CET
DTSTART:20251026T030000
TZOFFSETFROM:+0200
TZOFFSETTO:+0100
RDATE:20261025T030000
RDATE:20271031T030000
END:STANDARD
BEGIN:DAYLIGHT
TZNAME:CEST
DTSTART:20260329T020000
TZOFFSETFROM:+0100
TZOFFSETTO:+0200
RDATE:20270328T020000
END:DAYLIGHT
END:VTIMEZONE
BEGIN:VEVENT
UID:8113aa39-95bf-4561-a8ad-d7ab18b98f00
DTSTAMP:20260421T171401Z
CATEGORIES:Feiern
CLASS:PUBLIC
DESCRIPTION:
DTSTART:20260514T070000Z
DTEND:20260514T180000Z
GEO:00;0
LOCATION:Sportplatz Prößdorf
ORGANIZER:
SEQUENCE:1
SUMMARY:Männertagsfeier auf dem Sportplatz Prößdorf
TRANSP:OPAQUE
URL:http://neu.lucka.de/calender-lucka/89-maennertagsfeier-auf-dem-sportpla
 tz-proessdorf
END:VEVENT
END:VCALENDAR
