BEGIN:VCALENDAR
VERSION:2.0
PRODID:-//Stadt Lucka - Perle im Dreiländereck//NONSGML kigkonsult.se iCalc
 reator 2.30.10//
CALSCALE:GREGORIAN
METHOD:PUBLISH
UID:67ead911-3f70-4bce-b4e8-db9a887723e6
X-WR-CALNAME:iCagenda
X-WR-CALDESC:Event Management Extension for Joomla!
X-WR-RELCALID:3E26604A-50F4-4449-8B3E-E4F4932D05B5
X-WR-TIMEZONE:Europe/Berlin
BEGIN:VTIMEZONE
TZID:Europe/Berlin
BEGIN:STANDARD
TZNAME:CET
DTSTART:20261025T030000
TZOFFSETFROM:+0200
TZOFFSETTO:+0100
RDATE:20271031T030000
END:STANDARD
BEGIN:DAYLIGHT
TZNAME:CEST
DTSTART:20260329T020000
TZOFFSETFROM:+0100
TZOFFSETTO:+0200
RDATE:20270328T020000
RDATE:20280326T020000
END:DAYLIGHT
END:VTIMEZONE
BEGIN:VEVENT
UID:a72dbee2-11b6-430c-af30-d0c6f5ed1b56
DTSTAMP:20260421T191307Z
CATEGORIES:Konzerte
CLASS:PUBLIC
DESCRIPTION:
DTSTART:20261213T140000Z
DTEND:20261213T140000Z
GEO:00;0
LOCATION:Pankratiuskirche Lucka
ORGANIZER:
SEQUENCE:1
SUMMARY:Adventskonzert mit dem Jugendblasorchester
TRANSP:OPAQUE
URL:http://neu.lucka.de/calender-lucka/108-adventskonzert-mit-dem-jugendbla
 sorchester
END:VEVENT
END:VCALENDAR
