BEGIN:VCALENDAR
VERSION:2.0
PRODID:-//Stadt Lucka - Perle im Dreiländereck//NONSGML kigkonsult.se iCalc
 reator 2.30.10//
CALSCALE:GREGORIAN
METHOD:PUBLISH
UID:292beb96-8ef0-4266-a500-9b468cf0abb5
X-WR-CALNAME:iCagenda
X-WR-CALDESC:Event Management Extension for Joomla!
X-WR-RELCALID:3E26604A-50F4-4449-8B3E-E4F4932D05B5
X-WR-TIMEZONE:Europe/Berlin
BEGIN:VTIMEZONE
TZID:Europe/Berlin
BEGIN:STANDARD
TZNAME:CET
DTSTART:20261025T030000
TZOFFSETFROM:+0200
TZOFFSETTO:+0100
RDATE:20271031T030000
END:STANDARD
BEGIN:DAYLIGHT
TZNAME:CEST
DTSTART:20260329T020000
TZOFFSETFROM:+0100
TZOFFSETTO:+0200
RDATE:20270328T020000
RDATE:20280326T020000
END:DAYLIGHT
END:VTIMEZONE
BEGIN:VEVENT
UID:754f8e8d-4f19-42c3-a2a6-fff31017830c
DTSTAMP:20260421T191127Z
CATEGORIES:Feiern
CLASS:PUBLIC
DESCRIPTION:
DTSTART:20261203T140000Z
DTEND:20261203T140000Z
GEO:00;0
LOCATION:Deutsches Haus Lucka
ORGANIZER:
SEQUENCE:1
SUMMARY:Städtische Weihnachtsfeier
TRANSP:OPAQUE
URL:http://neu.lucka.de/calender-lucka/105-staedtische-weihnachtsfeier-3
END:VEVENT
END:VCALENDAR
