BEGIN:VCALENDAR
VERSION:2.0
PRODID:-//Stadt Lucka - Perle im Dreiländereck//NONSGML kigkonsult.se iCalc
 reator 2.30.10//
CALSCALE:GREGORIAN
METHOD:PUBLISH
UID:475f8625-7483-4ca1-8b17-331b29c00758
X-WR-CALNAME:iCagenda
X-WR-CALDESC:Event Management Extension for Joomla!
X-WR-RELCALID:3E26604A-50F4-4449-8B3E-E4F4932D05B5
X-WR-TIMEZONE:Europe/Berlin
BEGIN:VTIMEZONE
TZID:Europe/Berlin
BEGIN:STANDARD
TZNAME:CET
DTSTART:20261025T030000
TZOFFSETFROM:+0200
TZOFFSETTO:+0100
RDATE:20271031T030000
END:STANDARD
BEGIN:DAYLIGHT
TZNAME:CEST
DTSTART:20260329T020000
TZOFFSETFROM:+0100
TZOFFSETTO:+0200
RDATE:20270328T020000
RDATE:20280326T020000
END:DAYLIGHT
END:VTIMEZONE
BEGIN:VEVENT
UID:cdd5edc2-dc86-495a-bc3b-098fb34a6743
DTSTAMP:20260421T191412Z
CATEGORIES:Feiern
CLASS:PUBLIC
DESCRIPTION:
DTSTART:20261115T130000Z
DTEND:20261115T130000Z
GEO:00;0
LOCATION:Friedhof Lucka
ORGANIZER:
SEQUENCE:1
SUMMARY:Gedenkfeier zum Volkstrauertag
TRANSP:OPAQUE
URL:http://neu.lucka.de/calender-lucka/104-gedenkfeier-zum-volkstrauertag
END:VEVENT
END:VCALENDAR
